BEGIN:VCALENDAR
VERSION:2.0
PRODID:-//104.152.168.27//NONSGML kigkonsult.se iCalcreator 2.20//
CALSCALE:GREGORIAN
METHOD:PUBLISH
X-WR-TIMEZONE:Asia/Tokyo
BEGIN:VEVENT
UID:event39728@Tokyo Gig Guide
DTSTAMP:20260425T032939Z
CATEGORIES:Fusion\, Instrumental\, Jazz\, Pop\, Progressive
DESCRIPTION:MUMU\nカテゴリ: Fusion\, Instrumental\, Jazz\, Pop\, Progressive\nリ
 ンク: https://www.tokyogigguide.com/index.php?option=com_jem&view=event&id=3
 9728:mumu\n
DTSTART:20260425T190000
DTEND:20260425T190000
LOCATION:Knuttel House\,4-1-8 Matsugaya\, Taito-ku\, Tokyo\,Iriya
SUMMARY:MUMU
URL:https://www.tokyogigguide.com/index.php?option=com_jem&view=event&id=39
 728:mumu
END:VEVENT
BEGIN:VEVENT
UID:event40499@Tokyo Gig Guide
DTSTAMP:20260425T032939Z
CATEGORIES:Acoustic\, Alternative\, Avant garde\, Free Jazz\, Improvised
DESCRIPTION:Izumi Kimura (p) + Gerry Hemingway (ds\, voice) DUO\nカテゴリ: Acou
 stic\, Alternative\, Avant garde\, Free Jazz\, Improvised\nリンク: https://ww
 w.tokyogigguide.com/index.php?option=com_jem&view=event&id=40499:izumi-kim
 ura-p-gerry-hemingway-ds-voice-duo\n
DTSTART:20260429T183000
DTEND:20260429T183000
LOCATION:Knuttel House\,4-1-8 Matsugaya\, Taito-ku\, Tokyo\,Iriya
SUMMARY:Izumi Kimura (p) + Gerry Hemingway (ds\, voice) DUO
URL:https://www.tokyogigguide.com/index.php?option=com_jem&view=event&id=40
 499:izumi-kimura-p-gerry-hemingway-ds-voice-duo
END:VEVENT
BEGIN:VEVENT
UID:event40509@Tokyo Gig Guide
DTSTAMP:20260425T032939Z
CATEGORIES:Acoustic
DESCRIPTION:Natsuki Tamura\,  Satoko Fujii\nカテゴリ: Acoustic\nリンク: https://ww
 w.tokyogigguide.com/index.php?option=com_jem&view=event&id=40509:natsuki-t
 amura-satoko-fujii\n
DTSTART:20260522T190000
DTEND:20260522T190000
LOCATION:Knuttel House\,4-1-8 Matsugaya\, Taito-ku\, Tokyo\,Iriya
SUMMARY:Natsuki Tamura\,  Satoko Fujii
URL:https://www.tokyogigguide.com/index.php?option=com_jem&view=event&id=40
 509:natsuki-tamura-satoko-fujii
END:VEVENT
BEGIN:VEVENT
UID:event40292@Tokyo Gig Guide
DTSTAMP:20260425T032939Z
CATEGORIES:Avant garde\, Free Jazz\, Improvised\, Instrumental\, Jazz
DESCRIPTION:Trio L.O.D\nカテゴリ: Avant garde\, Free Jazz\, Improvised\, Instru
 mental\, Jazz\nリンク: https://www.tokyogigguide.com/index.php?option=com_jem
 &view=event&id=40292:trio-l-o-d\n
DTSTART:20260602T190000
DTEND:20260602T190000
LOCATION:Knuttel House\,4-1-8 Matsugaya\, Taito-ku\, Tokyo\,Iriya
SUMMARY:Trio L.O.D
URL:https://www.tokyogigguide.com/index.php?option=com_jem&view=event&id=40
 292:trio-l-o-d
END:VEVENT
END:VCALENDAR
