BEGIN:VCALENDAR
VERSION:2.0
PRODID:-//104.152.168.27//NONSGML kigkonsult.se iCalcreator 2.20//
CALSCALE:GREGORIAN
METHOD:PUBLISH
X-WR-TIMEZONE:Asia/Tokyo
BEGIN:VEVENT
UID:event10744@Tokyo Gig Guide
DTSTAMP:20260423T073136Z
CATEGORIES:Alternative
DESCRIPTION:Icon Girl Pistols\, Pen Friend Club\, Samm Bennet Trio\, Yoyoyo
 _i\nカテゴリ: Alternative\nリンク: https://www.tokyogigguide.com/index.php?option
 =com_jem&view=event&id=10744:icon-girl-pistols-pen-friend-club-samm-bennet
 -trio-yoyoyoi&Itemid=1094\n
DTSTART:20140830T190000
DTEND:20140830T190000
LOCATION:NOB\,Maruyamacho 1-3 BF\, Shibuya-ku\,Shibuya
SUMMARY:Icon Girl Pistols\, Pen Friend Club\, Samm Bennet Trio\, Yoyoyo_i
URL:https://www.tokyogigguide.com/index.php?option=com_jem&view=event&id=10
 744:icon-girl-pistols-pen-friend-club-samm-bennet-trio-yoyoyoi&Itemid=1094
END:VEVENT
END:VCALENDAR
