BEGIN:VCALENDAR
VERSION:2.0
PRODID:-//104.152.168.27//NONSGML kigkonsult.se iCalcreator 2.20//
CALSCALE:GREGORIAN
METHOD:PUBLISH
X-WR-TIMEZONE:Asia/Tokyo
BEGIN:VEVENT
UID:event10855@Tokyo Gig Guide
DTSTAMP:20260426T023613Z
CATEGORIES:Rock
DESCRIPTION:Libero Halloween Special: Icon Girl Pistols\, Tits\, Tats\, & W
 hiskers\, more\nカテゴリ: Rock\nリンク: https://www.tokyogigguide.com/index.php?o
 ption=com_jem&view=event&id=10855:ttw-live-libero-hallowen-special-&Itemid
 =1094\n
DTSTART:20141031T193000
DTEND:20141031T193000
LOCATION:NOB\,Maruyamacho 1-3 BF\, Shibuya-ku\,Shibuya
SUMMARY:Libero Halloween Special: Icon Girl Pistols\, Tits\, Tats\, & Whisk
 ers\, more
URL:https://www.tokyogigguide.com/index.php?option=com_jem&view=event&id=10
 855:ttw-live-libero-hallowen-special-&Itemid=1094
END:VEVENT
END:VCALENDAR
