BEGIN:VCALENDAR
VERSION:2.0
PRODID:-//104.152.168.27//NONSGML kigkonsult.se iCalcreator 2.20//
CALSCALE:GREGORIAN
METHOD:PUBLISH
X-WR-TIMEZONE:Asia/Tokyo
BEGIN:VEVENT
UID:event1163@Tokyo Gig Guide
DTSTAMP:20260421T102053Z
CATEGORIES:Other
DESCRIPTION:KILLING FLOOR\, HB\, MUDDY WORLD\, DISCO20000\, EGOISTIC 4 LEAV
 ES\nカテゴリ: Other\nリンク: https://www.tokyogigguide.com/index.php?option=com_j
 em&view=event&id=1163:killing-floor-hb-muddy-world-disco20000-egoistic-4-l
 eaves&Itemid=1094\n
DTSTART:20090719T173000
DTEND:20090719T173000
LOCATION:Showboat\,Oak Hill Koenji B1F\, 3-17-2 Koenji Kita\,Koenji
SUMMARY:KILLING FLOOR\, HB\, MUDDY WORLD\, DISCO20000\, EGOISTIC 4 LEAVES
URL:https://www.tokyogigguide.com/index.php?option=com_jem&view=event&id=11
 63:killing-floor-hb-muddy-world-disco20000-egoistic-4-leaves&Itemid=1094
END:VEVENT
END:VCALENDAR
