BEGIN:VCALENDAR
VERSION:2.0
PRODID:-//104.152.168.27//NONSGML kigkonsult.se iCalcreator 2.20//
CALSCALE:GREGORIAN
METHOD:PUBLISH
X-WR-TIMEZONE:Asia/Tokyo
BEGIN:VEVENT
UID:event11635@Tokyo Gig Guide
DTSTAMP:20260425T234921Z
CATEGORIES:Psychedelic
DESCRIPTION:Between The Sheets: drop\, DJs Sleepy Lemon\, Hallie Suzuki\, K
 yotaro Miura\, more\nカテゴリ: Psychedelic\nリンク: https://www.tokyogigguide.com
 /index.php?option=com_jem&view=event&id=11635:between-the-sheets&Itemid=10
 94\n
DTSTART:20150313T200000
DTEND:20150313T200000
LOCATION:Knock (Koenji)\,Koenji Minami 3-48-6  B1F\,Koenji
SUMMARY:Between The Sheets: drop\, DJs Sleepy Lemon\, Hallie Suzuki\, Kyota
 ro Miura\, more
URL:https://www.tokyogigguide.com/index.php?option=com_jem&view=event&id=11
 635:between-the-sheets&Itemid=1094
END:VEVENT
END:VCALENDAR
