BEGIN:VCALENDAR
VERSION:2.0
PRODID:-//104.152.168.27//NONSGML kigkonsult.se iCalcreator 2.20//
CALSCALE:GREGORIAN
METHOD:PUBLISH
X-WR-TIMEZONE:Asia/Tokyo
BEGIN:VEVENT
UID:event11777@Tokyo Gig Guide
DTSTAMP:20260424T092210Z
CATEGORIES:Industrial
DESCRIPTION:L'eclipse Nue\, DxUxS\, RAZICHORD\, (((AMNESIa-cHANNEL)))\nカテゴリ
 : Industrial\nリンク: https://www.tokyogigguide.com/index.php?option=com_jem&
 view=event&id=11777:leclipse-nue-dxuxs-razichord-amnesia-channel&Itemid=10
 94\n
DTSTART:20150507T190000
DTEND:20150507T190000
LOCATION:Hikari No Uma\,B1 1-23-17 Hyakunin-cho\, Shinjuku-ku\, Tokyo\,Okub
 o
SUMMARY:L'eclipse Nue\, DxUxS\, RAZICHORD\, (((AMNESIa-cHANNEL)))
URL:https://www.tokyogigguide.com/index.php?option=com_jem&view=event&id=11
 777:leclipse-nue-dxuxs-razichord-amnesia-channel&Itemid=1094
END:VEVENT
END:VCALENDAR
