BEGIN:VCALENDAR
VERSION:2.0
PRODID:-//104.152.168.27//NONSGML kigkonsult.se iCalcreator 2.20//
CALSCALE:GREGORIAN
METHOD:PUBLISH
X-WR-TIMEZONE:Asia/Tokyo
BEGIN:VEVENT
UID:event11870@Tokyo Gig Guide
DTSTAMP:20260423T183655Z
CATEGORIES:Acoustic
DESCRIPTION:Little Wings\, Wakusei no Kazoe-kata\, Mangneng Planet Band\nカテ
 ゴリ: Acoustic\nリンク: https://www.tokyogigguide.com/index.php?option=com_jem&
 view=event&id=11870:little-wings-wakusei-no-kazoe-kata-mangneng-planet-ban
 d&Itemid=1094\n
DTSTART:20150522T190000
DTEND:20150522T190000
LOCATION:Shichoshitsu (Jinbocho)\,3-8-5 Nishi Kanda\, Chiyodaku\, Tokyo\,Ji
 mbocho
SUMMARY:Little Wings\, Wakusei no Kazoe-kata\, Mangneng Planet Band
URL:https://www.tokyogigguide.com/index.php?option=com_jem&view=event&id=11
 870:little-wings-wakusei-no-kazoe-kata-mangneng-planet-band&Itemid=1094
END:VEVENT
END:VCALENDAR
