BEGIN:VCALENDAR
VERSION:2.0
PRODID:-//104.152.168.27//NONSGML kigkonsult.se iCalcreator 2.20//
CALSCALE:GREGORIAN
METHOD:PUBLISH
X-WR-TIMEZONE:Asia/Tokyo
BEGIN:VEVENT
UID:event1195@Tokyo Gig Guide
DTSTAMP:20260425T145002Z
CATEGORIES:Other
DESCRIPTION:dälek\, ZU\, DJ BAKU\nカテゴリ: Other\nリンク: https://www.tokyogiggui
 de.com/index.php?option=com_jem&view=event&id=1195:dalek-zu-dj-baku&Itemid
 =1094\n
DTSTART:20090911T180000
DTEND:20090911T180000
LOCATION:Earthdom\,Lisbon Bldg B1F\, 3-32-3 Okubo\, Shinjuku-ku\,Okubo
SUMMARY:dälek\, ZU\, DJ BAKU
URL:https://www.tokyogigguide.com/index.php?option=com_jem&view=event&id=11
 95:dalek-zu-dj-baku&Itemid=1094
END:VEVENT
END:VCALENDAR
