BEGIN:VCALENDAR
VERSION:2.0
PRODID:-//104.152.168.27//NONSGML kigkonsult.se iCalcreator 2.20//
CALSCALE:GREGORIAN
METHOD:PUBLISH
X-WR-TIMEZONE:Asia/Tokyo
BEGIN:VEVENT
UID:event1245@Tokyo Gig Guide
DTSTAMP:20260422T000507Z
CATEGORIES:Mixed Genre
DESCRIPTION:Candles\, Mana\nカテゴリ: Mixed Genre\nリンク: https://www.tokyogiggui
 de.com/index.php?option=com_jem&view=event&id=1245:candles-mana&Itemid=109
 4\n
DTSTART:20090706T193000
DTEND:20090706T193000
LOCATION:Knock (Koenji)\,Koenji Minami 3-48-6  B1F\,Koenji
SUMMARY:Candles\, Mana
URL:https://www.tokyogigguide.com/index.php?option=com_jem&view=event&id=12
 45:candles-mana&Itemid=1094
END:VEVENT
END:VCALENDAR
