BEGIN:VCALENDAR
VERSION:2.0
PRODID:-//104.152.168.27//NONSGML kigkonsult.se iCalcreator 2.20//
CALSCALE:GREGORIAN
METHOD:PUBLISH
X-WR-TIMEZONE:Asia/Tokyo
BEGIN:VEVENT
UID:event12964@Tokyo Gig Guide
DTSTAMP:20260426T013231Z
CATEGORIES:World
DESCRIPTION:Hiroko Matsubara & Marcos Fernandes Duo + Posuposu Otani\nカテゴリ:
  World\nリンク: https://www.tokyogigguide.com/index.php?option=com_jem&view=e
 vent&id=12964:hiroko-matsubaramarcos-fernandes-duo--posuposu-otani&Itemid=
 1094\n
DTSTART:20151229T190000
DTEND:20151229T190000
LOCATION:Hikari No Uma\,B1 1-23-17 Hyakunin-cho\, Shinjuku-ku\, Tokyo\,Okub
 o
SUMMARY:Hiroko Matsubara & Marcos Fernandes Duo + Posuposu Otani
URL:https://www.tokyogigguide.com/index.php?option=com_jem&view=event&id=12
 964:hiroko-matsubaramarcos-fernandes-duo--posuposu-otani&Itemid=1094
END:VEVENT
END:VCALENDAR
