BEGIN:VCALENDAR
VERSION:2.0
PRODID:-//104.152.168.27//NONSGML kigkonsult.se iCalcreator 2.20//
CALSCALE:GREGORIAN
METHOD:PUBLISH
X-WR-TIMEZONE:Asia/Tokyo
BEGIN:VEVENT
UID:event13016@Tokyo Gig Guide
DTSTAMP:20260423T021436Z
CATEGORIES:Folk
DESCRIPTION:S&H (Samm Bennett & Habu Hiroshi)\nカテゴリ: Folk\nリンク: https://www
 .tokyogigguide.com/index.php?option=com_jem&view=event&id=13016:sah-samm-b
 ennett-a-habu-hiroshi&Itemid=1094\n
DTSTART:20151211T190000
DTEND:20151211T190000
LOCATION:Hikari No Uma\,B1 1-23-17 Hyakunin-cho\, Shinjuku-ku\, Tokyo\,Okub
 o
SUMMARY:S&H (Samm Bennett & Habu Hiroshi)
URL:https://www.tokyogigguide.com/index.php?option=com_jem&view=event&id=13
 016:sah-samm-bennett-a-habu-hiroshi&Itemid=1094
END:VEVENT
END:VCALENDAR
