BEGIN:VCALENDAR
VERSION:2.0
PRODID:-//104.152.168.27//NONSGML kigkonsult.se iCalcreator 2.20//
CALSCALE:GREGORIAN
METHOD:PUBLISH
X-WR-TIMEZONE:Asia/Tokyo
BEGIN:VEVENT
UID:event1340@Tokyo Gig Guide
DTSTAMP:20260421T212417Z
CATEGORIES:Mixed Genre
DESCRIPTION:Candles\, Fujiko More\nカテゴリ: Mixed Genre\nリンク: https://www.toky
 ogigguide.com/index.php?option=com_jem&view=event&id=1340:candles-fujiko-m
 ore&Itemid=1094\n
DTSTART:20090803T193000
DTEND:20090803T193000
LOCATION:Knock (Koenji)\,Koenji Minami 3-48-6  B1F\,Koenji
SUMMARY:Candles\, Fujiko More
URL:https://www.tokyogigguide.com/index.php?option=com_jem&view=event&id=13
 40:candles-fujiko-more&Itemid=1094
END:VEVENT
END:VCALENDAR
