BEGIN:VCALENDAR
VERSION:2.0
PRODID:-//104.152.168.27//NONSGML kigkonsult.se iCalcreator 2.20//
CALSCALE:GREGORIAN
METHOD:PUBLISH
X-WR-TIMEZONE:Asia/Tokyo
BEGIN:VEVENT
UID:event13446@Tokyo Gig Guide
DTSTAMP:20260423T010948Z
CATEGORIES:Free Jazz
DESCRIPTION:Naoji Kondo\, Mikio Fukushima\, Hayami Mizobe\, Fumito Sugo\nカテ
 ゴリ: Free Jazz\nリンク: https://www.tokyogigguide.com/index.php?option=com_jem
 &view=event&id=13446:naoji-kondo-mikio-fukushima-hayami-mizobe-fumito-sugo
 &Itemid=1094\n
DTSTART:20160331T190000
DTEND:20160331T190000
LOCATION:Hikari No Uma\,B1 1-23-17 Hyakunin-cho\, Shinjuku-ku\, Tokyo\,Okub
 o
SUMMARY:Naoji Kondo\, Mikio Fukushima\, Hayami Mizobe\, Fumito Sugo
URL:https://www.tokyogigguide.com/index.php?option=com_jem&view=event&id=13
 446:naoji-kondo-mikio-fukushima-hayami-mizobe-fumito-sugo&Itemid=1094
END:VEVENT
END:VCALENDAR
