BEGIN:VCALENDAR
VERSION:2.0
PRODID:-//104.152.168.27//NONSGML kigkonsult.se iCalcreator 2.20//
CALSCALE:GREGORIAN
METHOD:PUBLISH
X-WR-TIMEZONE:Asia/Tokyo
BEGIN:VEVENT
UID:event13528@Tokyo Gig Guide
DTSTAMP:20260421T094533Z
CATEGORIES:Dance\, Improvised
DESCRIPTION:Irreversible Chance Meeting 7: Y Kita\, K Tayama\, K Shinjo\, M
  Hata\, K Taniguchi\, Y Yoshimoto\nカテゴリ: Dance\, Improvised\nリンク: https://
 www.tokyogigguide.com/index.php?option=com_jem&view=event&id=13528:irrever
 sible-chance-meeting-7&Itemid=1094\n
DTSTART:20160507T173000
DTEND:20160507T173000
LOCATION:Shichoshitsu (Jinbocho)\,3-8-5 Nishi Kanda\, Chiyodaku\, Tokyo\,Ji
 mbocho
SUMMARY:Irreversible Chance Meeting 7: Y Kita\, K Tayama\, K Shinjo\, M Hat
 a\, K Taniguchi\, Y Yoshimoto
URL:https://www.tokyogigguide.com/index.php?option=com_jem&view=event&id=13
 528:irreversible-chance-meeting-7&Itemid=1094
END:VEVENT
END:VCALENDAR
