BEGIN:VCALENDAR
VERSION:2.0
PRODID:-//104.152.168.27//NONSGML kigkonsult.se iCalcreator 2.20//
CALSCALE:GREGORIAN
METHOD:PUBLISH
X-WR-TIMEZONE:Asia/Tokyo
BEGIN:VEVENT
UID:event13545@Tokyo Gig Guide
DTSTAMP:20260421T203339Z
CATEGORIES:Other
DESCRIPTION:Kiichi Tachikawa\, Ami Yoshida\, Tomoe Takizawa\, Shun Ishizuka
 \nカテゴリ: Other\nリンク: https://www.tokyogigguide.com/index.php?option=com_jem
 &view=event&id=13545:kiichi-tachikawa-ami-yoshida-tomoe-takizawa&Itemid=10
 94\n
DTSTART:20160321T160000
DTEND:20160321T160000
LOCATION:Shichoshitsu (Jinbocho)\,3-8-5 Nishi Kanda\, Chiyodaku\, Tokyo\,Ji
 mbocho
SUMMARY:Kiichi Tachikawa\, Ami Yoshida\, Tomoe Takizawa\, Shun Ishizuka
URL:https://www.tokyogigguide.com/index.php?option=com_jem&view=event&id=13
 545:kiichi-tachikawa-ami-yoshida-tomoe-takizawa&Itemid=1094
END:VEVENT
END:VCALENDAR
