BEGIN:VCALENDAR
VERSION:2.0
PRODID:-//104.152.168.27//NONSGML kigkonsult.se iCalcreator 2.20//
CALSCALE:GREGORIAN
METHOD:PUBLISH
X-WR-TIMEZONE:Asia/Tokyo
BEGIN:VEVENT
UID:event13931@Tokyo Gig Guide
DTSTAMP:20260424T133945Z
CATEGORIES:New Orleans
DESCRIPTION:KING CAKE BABY\nカテゴリ: New Orleans\nリンク: https://www.tokyogiggui
 de.com/index.php?option=com_jem&view=event&id=13931:king-cake-baby&Itemid=
 1094\n
DTSTART:20160526T070000
DTEND:20160526T070000
LOCATION:Hikari No Uma\,B1 1-23-17 Hyakunin-cho\, Shinjuku-ku\, Tokyo\,Okub
 o
SUMMARY:KING CAKE BABY
URL:https://www.tokyogigguide.com/index.php?option=com_jem&view=event&id=13
 931:king-cake-baby&Itemid=1094
END:VEVENT
END:VCALENDAR
