BEGIN:VCALENDAR
VERSION:2.0
PRODID:-//104.152.168.27//NONSGML kigkonsult.se iCalcreator 2.20//
CALSCALE:GREGORIAN
METHOD:PUBLISH
X-WR-TIMEZONE:Asia/Tokyo
BEGIN:VEVENT
UID:event14116@Tokyo Gig Guide
DTSTAMP:20260424T044401Z
CATEGORIES:Psychedelic\, Psych-Folk
DESCRIPTION:HAINO KEIJI\, 彗星\, Transkam\, 吉本裕美子\, Bloom-Creation\nカテゴリ: Psy
 chedelic\, Psych-Folk\nリンク: https://www.tokyogigguide.com/index.php?option
 =com_jem&view=event&id=14116:haino-keiji-transkam-bloom-creation&Itemid=10
 94\n
DTSTART:20160718T170000
DTEND:20160718T170000
LOCATION:Hikari No Uma\,B1 1-23-17 Hyakunin-cho\, Shinjuku-ku\, Tokyo\,Okub
 o
SUMMARY:HAINO KEIJI\, 彗星\, Transkam\, 吉本裕美子\, Bloom-Creation
URL:https://www.tokyogigguide.com/index.php?option=com_jem&view=event&id=14
 116:haino-keiji-transkam-bloom-creation&Itemid=1094
END:VEVENT
END:VCALENDAR
