BEGIN:VCALENDAR
VERSION:2.0
PRODID:-//104.152.168.27//NONSGML kigkonsult.se iCalcreator 2.20//
CALSCALE:GREGORIAN
METHOD:PUBLISH
X-WR-TIMEZONE:Asia/Tokyo
BEGIN:VEVENT
UID:event1445@Tokyo Gig Guide
DTSTAMP:20260422T225213Z
CATEGORIES:Hardcore
DESCRIPTION:WORMS'MEAT\, PSYCHEDELIC GRINDER\, SEC DIMENSION\, CRUCIFIED\, 
 UNRUCH\, DANCE WITH ME...\nカテゴリ: Hardcore\nリンク: https://www.tokyogigguide.
 com/index.php?option=com_jem&view=event&id=1445:wormsmeat-psychedelic-grin
 der-sec-dimension-crucified-unruch-dance-with-me&Itemid=1094\n
DTSTART:20090816T170000
DTEND:20090816T170000
LOCATION:Earthdom\,Lisbon Bldg B1F\, 3-32-3 Okubo\, Shinjuku-ku\,Okubo
SUMMARY:WORMS'MEAT\, PSYCHEDELIC GRINDER\, SEC DIMENSION\, CRUCIFIED\, UNRU
 CH\, DANCE WITH ME...
URL:https://www.tokyogigguide.com/index.php?option=com_jem&view=event&id=14
 45:wormsmeat-psychedelic-grinder-sec-dimension-crucified-unruch-dance-with
 -me&Itemid=1094
END:VEVENT
END:VCALENDAR
