BEGIN:VCALENDAR
VERSION:2.0
PRODID:-//104.152.168.27//NONSGML kigkonsult.se iCalcreator 2.20//
CALSCALE:GREGORIAN
METHOD:PUBLISH
X-WR-TIMEZONE:Asia/Tokyo
BEGIN:VEVENT
UID:event14499@Tokyo Gig Guide
DTSTAMP:20260424T122755Z
CATEGORIES:Improvised\, Jazz
DESCRIPTION:福川淳\, Kjetil Jerve\, Erlend Albertsen\nカテゴリ: Improvised\, Jazz
 \nリンク: https://www.tokyogigguide.com/index.php?option=com_jem&view=event&i
 d=14499:ts-kjetil-jerve-pf-erlend-albertsen-b&Itemid=1094\n
DTSTART:20160822T193000
DTEND:20160822T193000
LOCATION:Shichoshitsu (Jinbocho)\,3-8-5 Nishi Kanda\, Chiyodaku\, Tokyo\,Ji
 mbocho
SUMMARY:福川淳\, Kjetil Jerve\, Erlend Albertsen
URL:https://www.tokyogigguide.com/index.php?option=com_jem&view=event&id=14
 499:ts-kjetil-jerve-pf-erlend-albertsen-b&Itemid=1094
END:VEVENT
END:VCALENDAR
