BEGIN:VCALENDAR
VERSION:2.0
PRODID:-//104.152.168.27//NONSGML kigkonsult.se iCalcreator 2.20//
CALSCALE:GREGORIAN
METHOD:PUBLISH
X-WR-TIMEZONE:Asia/Tokyo
BEGIN:VEVENT
UID:event14565@Tokyo Gig Guide
DTSTAMP:20260421T171536Z
CATEGORIES:Acoustic\, Avant-pop\, Experimental\, Improvised\, Indie-Pop
DESCRIPTION:Salad Mycal Tomioka Silkmill Group\nカテゴリ: Acoustic\, Avant-pop\
 , Experimental\, Improvised\, Indie-Pop\nリンク: https://www.tokyogigguide.co
 m/index.php?option=com_jem&view=event&id=14565:salad-mycal-tomioka-silkmil
 l-group-s-how-to-fight&Itemid=1094\n
DTSTART:20160910T140000
DTEND:20160910T140000
LOCATION:Shichoshitsu (Jinbocho)\,3-8-5 Nishi Kanda\, Chiyodaku\, Tokyo\,Ji
 mbocho
SUMMARY:Salad Mycal Tomioka Silkmill Group
URL:https://www.tokyogigguide.com/index.php?option=com_jem&view=event&id=14
 565:salad-mycal-tomioka-silkmill-group-s-how-to-fight&Itemid=1094
END:VEVENT
END:VCALENDAR
