BEGIN:VCALENDAR
VERSION:2.0
PRODID:-//104.152.168.27//NONSGML kigkonsult.se iCalcreator 2.20//
CALSCALE:GREGORIAN
METHOD:PUBLISH
X-WR-TIMEZONE:Asia/Tokyo
BEGIN:VEVENT
UID:event14600@Tokyo Gig Guide
DTSTAMP:20260423T185918Z
CATEGORIES:Psychedelic
DESCRIPTION:Morikawa Seiichiro + Mitsuko☆Tabata \nカテゴリ: Psychedelic\nリンク: h
 ttps://www.tokyogigguide.com/index.php?option=com_jem&view=event&id=14600:
 morikawa-seiichiro-mitsuko-tabata&Itemid=1094\n
DTSTART:20160911T190000
DTEND:20160911T190000
LOCATION:Hikari No Uma\,B1 1-23-17 Hyakunin-cho\, Shinjuku-ku\, Tokyo\,Okub
 o
SUMMARY:Morikawa Seiichiro + Mitsuko☆Tabata 
URL:https://www.tokyogigguide.com/index.php?option=com_jem&view=event&id=14
 600:morikawa-seiichiro-mitsuko-tabata&Itemid=1094
END:VEVENT
END:VCALENDAR
