BEGIN:VCALENDAR
VERSION:2.0
PRODID:-//104.152.168.27//NONSGML kigkonsult.se iCalcreator 2.20//
CALSCALE:GREGORIAN
METHOD:PUBLISH
X-WR-TIMEZONE:Asia/Tokyo
BEGIN:VEVENT
UID:event14771@Tokyo Gig Guide
DTSTAMP:20260421T075521Z
CATEGORIES:Acoustic\, Free Jazz\, Instrumental
DESCRIPTION:Higan no Shigan (Hiroshi Yoshio\, Natsuki Kido\, Keisuke Ota\, 
 Masaki Yoshimi)\nカテゴリ: Acoustic\, Free Jazz\, Instrumental\nリンク: https://w
 ww.tokyogigguide.com/index.php?option=com_jem&view=event&id=14771:higan-no
 -shigan-hiroshi-yoshio-natsuki-kido-keisuke-ota-masaki-yoshimi&Itemid=1094
 \n
DTSTART:20161019T183000
DTEND:20161019T183000
LOCATION:Dolphy\,2-17-4-2F Miyagawa-cho\, Naka-ku\, Yokohama\,Yokohama
SUMMARY:Higan no Shigan (Hiroshi Yoshio\, Natsuki Kido\, Keisuke Ota\, Masa
 ki Yoshimi)
URL:https://www.tokyogigguide.com/index.php?option=com_jem&view=event&id=14
 771:higan-no-shigan-hiroshi-yoshio-natsuki-kido-keisuke-ota-masaki-yoshimi
 &Itemid=1094
END:VEVENT
END:VCALENDAR
