BEGIN:VCALENDAR
VERSION:2.0
PRODID:-//104.152.168.27//NONSGML kigkonsult.se iCalcreator 2.20//
CALSCALE:GREGORIAN
METHOD:PUBLISH
X-WR-TIMEZONE:Asia/Tokyo
BEGIN:VEVENT
UID:event15236@Tokyo Gig Guide
DTSTAMP:20260424T075431Z
CATEGORIES:World
DESCRIPTION:Hiroko Matsubara & Haruko Mikuni & Marcos Fernandes Trio + Euge
 ne Okano\nカテゴリ: World\nリンク: https://www.tokyogigguide.com/index.php?option
 =com_jem&view=event&id=15236:hiroko-matsubara-haruko-mikuni-marcos-fernand
 es-trio-eugene-okano&Itemid=1094\n
DTSTART:20161128T192900
DTEND:20161128T192900
LOCATION:Shichoshitsu (Jinbocho)\,3-8-5 Nishi Kanda\, Chiyodaku\, Tokyo\,Ji
 mbocho
SUMMARY:Hiroko Matsubara & Haruko Mikuni & Marcos Fernandes Trio + Eugene O
 kano
URL:https://www.tokyogigguide.com/index.php?option=com_jem&view=event&id=15
 236:hiroko-matsubara-haruko-mikuni-marcos-fernandes-trio-eugene-okano&Item
 id=1094
END:VEVENT
END:VCALENDAR
