BEGIN:VCALENDAR
VERSION:2.0
PRODID:-//104.152.168.27//NONSGML kigkonsult.se iCalcreator 2.20//
CALSCALE:GREGORIAN
METHOD:PUBLISH
X-WR-TIMEZONE:Asia/Tokyo
BEGIN:VEVENT
UID:event1553@Tokyo Gig Guide
DTSTAMP:20260422T195729Z
CATEGORIES:Rock
DESCRIPTION:Filth Iconoclast 666 (incl. members of Acid Mothers Temple and 
 Optrum)\, more\nカテゴリ: Rock\nリンク: https://www.tokyogigguide.com/index.php?o
 ption=com_jem&view=event&id=1553:filth-iconoclast-666incl-members-of-acid-
 mothers-temple-and-optrum&Itemid=1094\n
DTSTART:20090902T190000
DTEND:20090902T190000
LOCATION:Earthdom\,Lisbon Bldg B1F\, 3-32-3 Okubo\, Shinjuku-ku\,Okubo
SUMMARY:Filth Iconoclast 666 (incl. members of Acid Mothers Temple and Optr
 um)\, more
URL:https://www.tokyogigguide.com/index.php?option=com_jem&view=event&id=15
 53:filth-iconoclast-666incl-members-of-acid-mothers-temple-and-optrum&Item
 id=1094
END:VEVENT
END:VCALENDAR
