BEGIN:VCALENDAR
VERSION:2.0
PRODID:-//104.152.168.27//NONSGML kigkonsult.se iCalcreator 2.20//
CALSCALE:GREGORIAN
METHOD:PUBLISH
X-WR-TIMEZONE:Asia/Tokyo
BEGIN:VEVENT
UID:event15830@Tokyo Gig Guide
DTSTAMP:20260426T023754Z
CATEGORIES:Avant garde\, Experimental\, Improvised
DESCRIPTION:Imai Kazuo Trio\, Albedo Fantastica\nカテゴリ: Avant garde\, Experi
 mental\, Improvised\nリンク: https://www.tokyogigguide.com/index.php?option=c
 om_jem&view=event&id=15830:imai-kazuo-trio-albedo-fantastica&Itemid=1094\n
DTSTART:20170325T190000
DTEND:20170325T190000
LOCATION:Hikari No Uma\,B1 1-23-17 Hyakunin-cho\, Shinjuku-ku\, Tokyo\,Okub
 o
SUMMARY:Imai Kazuo Trio\, Albedo Fantastica
URL:https://www.tokyogigguide.com/index.php?option=com_jem&view=event&id=15
 830:imai-kazuo-trio-albedo-fantastica&Itemid=1094
END:VEVENT
END:VCALENDAR
