BEGIN:VCALENDAR
VERSION:2.0
PRODID:-//104.152.168.27//NONSGML kigkonsult.se iCalcreator 2.20//
CALSCALE:GREGORIAN
METHOD:PUBLISH
X-WR-TIMEZONE:Asia/Tokyo
BEGIN:VEVENT
UID:event16366@Tokyo Gig Guide
DTSTAMP:20260426T010817Z
CATEGORIES:Psychedelic
DESCRIPTION:MIMINOKOTO\, Matsutani Ken + Rie Fukuda + Toukasei bunshi\, Aki
 ko Toshimitsu\, Peaflan\nカテゴリ: Psychedelic\nリンク: https://www.tokyogigguide
 .com/index.php?option=com_jem&view=event&id=16366:miminokoto-matsutani-ken
 -rie-fukuda-toukaseibunshi-akiko-toshimitsu-peaflan&Itemid=1094\n
DTSTART:20170401T190000
DTEND:20170401T190000
LOCATION:Hikari No Uma\,B1 1-23-17 Hyakunin-cho\, Shinjuku-ku\, Tokyo\,Okub
 o
SUMMARY:MIMINOKOTO\, Matsutani Ken + Rie Fukuda + Toukasei bunshi\, Akiko T
 oshimitsu\, Peaflan
URL:https://www.tokyogigguide.com/index.php?option=com_jem&view=event&id=16
 366:miminokoto-matsutani-ken-rie-fukuda-toukaseibunshi-akiko-toshimitsu-pe
 aflan&Itemid=1094
END:VEVENT
END:VCALENDAR
