BEGIN:VCALENDAR
VERSION:2.0
PRODID:-//104.152.168.27//NONSGML kigkonsult.se iCalcreator 2.20//
CALSCALE:GREGORIAN
METHOD:PUBLISH
X-WR-TIMEZONE:Asia/Tokyo
BEGIN:VEVENT
UID:event1638@Tokyo Gig Guide
DTSTAMP:20260426T040224Z
CATEGORIES:Experimental
DESCRIPTION:Samm\, Bennett\, TOMO\nカテゴリ: Experimental\nリンク: https://www.tok
 yogigguide.com/index.php?option=com_jem&view=event&id=1638:samm-bennett-to
 mo&Itemid=1094\n
DTSTART:20091016T190000
DTEND:20091016T190000
LOCATION:Gamuso\,Takuei Building 2F\, Asagaya-kita 2-12-5\,Asagaya
SUMMARY:Samm\, Bennett\, TOMO
URL:https://www.tokyogigguide.com/index.php?option=com_jem&view=event&id=16
 38:samm-bennett-tomo&Itemid=1094
END:VEVENT
END:VCALENDAR
