BEGIN:VCALENDAR
VERSION:2.0
PRODID:-//104.152.168.27//NONSGML kigkonsult.se iCalcreator 2.20//
CALSCALE:GREGORIAN
METHOD:PUBLISH
X-WR-TIMEZONE:Asia/Tokyo
BEGIN:VEVENT
UID:event1639@Tokyo Gig Guide
DTSTAMP:20260422T212532Z
CATEGORIES:Electro-Pop
DESCRIPTION:APRILS\, Soda fountains\, Sucrette\, balloon skirt\, tetrapletr
 ap\nカテゴリ: Electro-Pop\nリンク: https://www.tokyogigguide.com/index.php?option
 =com_jem&view=event&id=1639:aprils-soda-fountains-sucrette-balloon-skirt-t
 etrapletrap&Itemid=1094\n
DTSTART:20091017T173000
DTEND:20091017T173000
LOCATION:Showboat\,Oak Hill Koenji B1F\, 3-17-2 Koenji Kita\,Koenji
SUMMARY:APRILS\, Soda fountains\, Sucrette\, balloon skirt\, tetrapletrap
URL:https://www.tokyogigguide.com/index.php?option=com_jem&view=event&id=16
 39:aprils-soda-fountains-sucrette-balloon-skirt-tetrapletrap&Itemid=1094
END:VEVENT
END:VCALENDAR
