BEGIN:VCALENDAR
VERSION:2.0
PRODID:-//104.152.168.27//NONSGML kigkonsult.se iCalcreator 2.20//
CALSCALE:GREGORIAN
METHOD:PUBLISH
X-WR-TIMEZONE:Asia/Tokyo
BEGIN:VEVENT
UID:event16391@Tokyo Gig Guide
DTSTAMP:20260423T032514Z
CATEGORIES:All Mix\, DJ\, Indie
DESCRIPTION:DJs Tetsuya Suzuki (TOPGUN)\, Mr.Chopstick! (Coup d'état! / Day
 tona)\, Keiichi Misawa\, Judy\nカテゴリ: All Mix\, DJ\, Indie\nリンク: https://ww
 w.tokyogigguide.com/index.php?option=com_jem&view=event&id=16391:djs-tetsu
 ya-suzuki-topgun-mr-chopstick-coup-d-etat-daytona-keiichi-misawa-judy&Item
 id=1094\n
DTSTART:20170413T190000
DTEND:20170413T190000
LOCATION:Knock (Koenji)\,Koenji Minami 3-48-6  B1F\,Koenji
SUMMARY:DJs Tetsuya Suzuki (TOPGUN)\, Mr.Chopstick! (Coup d'état! / Daytona
 )\, Keiichi Misawa\, Judy
URL:https://www.tokyogigguide.com/index.php?option=com_jem&view=event&id=16
 391:djs-tetsuya-suzuki-topgun-mr-chopstick-coup-d-etat-daytona-keiichi-mis
 awa-judy&Itemid=1094
END:VEVENT
END:VCALENDAR
