BEGIN:VCALENDAR
VERSION:2.0
PRODID:-//104.152.168.27//NONSGML kigkonsult.se iCalcreator 2.20//
CALSCALE:GREGORIAN
METHOD:PUBLISH
X-WR-TIMEZONE:Asia/Tokyo
BEGIN:VEVENT
UID:event16604@Tokyo Gig Guide
DTSTAMP:20260422T154902Z
CATEGORIES:Psychedelic
DESCRIPTION:Los Doroncos\, Kashikoi Ulysses (Kyoto)\, Hobonobo\, Imanari Te
 tsuo\, Bloom-Creation\nカテゴリ: Psychedelic\nリンク: https://www.tokyogigguide.c
 om/index.php?option=com_jem&view=event&id=16604:los-doroncos-kashikoi-ulys
 ses-kyoto-hobonobo-imanari-tetsuo-bloom-creation&Itemid=1094\n
DTSTART:20170503T180000
DTEND:20170503T180000
LOCATION:Hikari No Uma\,B1 1-23-17 Hyakunin-cho\, Shinjuku-ku\, Tokyo\,Okub
 o
SUMMARY:Los Doroncos\, Kashikoi Ulysses (Kyoto)\, Hobonobo\, Imanari Tetsuo
 \, Bloom-Creation
URL:https://www.tokyogigguide.com/index.php?option=com_jem&view=event&id=16
 604:los-doroncos-kashikoi-ulysses-kyoto-hobonobo-imanari-tetsuo-bloom-crea
 tion&Itemid=1094
END:VEVENT
END:VCALENDAR
