BEGIN:VCALENDAR
VERSION:2.0
PRODID:-//104.152.168.27//NONSGML kigkonsult.se iCalcreator 2.20//
CALSCALE:GREGORIAN
METHOD:PUBLISH
X-WR-TIMEZONE:Asia/Tokyo
BEGIN:VEVENT
UID:event16732@Tokyo Gig Guide
DTSTAMP:20260422T195229Z
CATEGORIES:Noise
DESCRIPTION:Toshimaru Nakamura + Jun Numata\, ASTRO\nカテゴリ: Noise\nリンク: http
 s://www.tokyogigguide.com/index.php?option=com_jem&view=event&id=16732:tos
 himaru-nakamura-jun-numata-astro&Itemid=1094\n
DTSTART:20170605T193000
DTEND:20170605T193000
LOCATION:Shichoshitsu (Jinbocho)\,3-8-5 Nishi Kanda\, Chiyodaku\, Tokyo\,Ji
 mbocho
SUMMARY:Toshimaru Nakamura + Jun Numata\, ASTRO
URL:https://www.tokyogigguide.com/index.php?option=com_jem&view=event&id=16
 732:toshimaru-nakamura-jun-numata-astro&Itemid=1094
END:VEVENT
END:VCALENDAR
