BEGIN:VCALENDAR
VERSION:2.0
PRODID:-//104.152.168.27//NONSGML kigkonsult.se iCalcreator 2.20//
CALSCALE:GREGORIAN
METHOD:PUBLISH
X-WR-TIMEZONE:Asia/Tokyo
BEGIN:VEVENT
UID:event1675@Tokyo Gig Guide
DTSTAMP:20260422T154656Z
CATEGORIES:Improvised
DESCRIPTION:KK NULL + Yoshida Tatsuya + Tabata Mitsuru\nカテゴリ: Improvised\nリ
 ンク: https://www.tokyogigguide.com/index.php?option=com_jem&view=event&id=1
 675:kk-null--yoshida-tatsuya--tabata-mitsuru&Itemid=1094\n
DTSTART:20091123T190000
DTEND:20091123T190000
LOCATION:Showboat\,Oak Hill Koenji B1F\, 3-17-2 Koenji Kita\,Koenji
SUMMARY:KK NULL + Yoshida Tatsuya + Tabata Mitsuru
URL:https://www.tokyogigguide.com/index.php?option=com_jem&view=event&id=16
 75:kk-null--yoshida-tatsuya--tabata-mitsuru&Itemid=1094
END:VEVENT
END:VCALENDAR
