BEGIN:VCALENDAR
VERSION:2.0
PRODID:-//104.152.168.27//NONSGML kigkonsult.se iCalcreator 2.20//
CALSCALE:GREGORIAN
METHOD:PUBLISH
X-WR-TIMEZONE:Asia/Tokyo
BEGIN:VEVENT
UID:event1679@Tokyo Gig Guide
DTSTAMP:20260421T085845Z
CATEGORIES:Rock
DESCRIPTION:TABATA Mitsuru + KAWAI Shinobu + YAMAMOTO Tatsuhisa\, Mo no Tsu
 ki、Fuyu、roomdiners (Kuu\nカテゴリ: Rock\nリンク: https://www.tokyogigguide.com/in
 dex.php?option=com_jem&view=event&id=1679:tabata-mitsuru--kawai-shinobu--y
 amamoto-tatsuhisa-mo-no-tsukifuyuroomdiners-kuu&Itemid=1094\n
DTSTART:20091016T190000
DTEND:20091016T190000
LOCATION:Showboat\,Oak Hill Koenji B1F\, 3-17-2 Koenji Kita\,Koenji
SUMMARY:TABATA Mitsuru + KAWAI Shinobu + YAMAMOTO Tatsuhisa\, Mo no Tsuki、F
 uyu、roomdiners (Kuu
URL:https://www.tokyogigguide.com/index.php?option=com_jem&view=event&id=16
 79:tabata-mitsuru--kawai-shinobu--yamamoto-tatsuhisa-mo-no-tsukifuyuroomdi
 ners-kuu&Itemid=1094
END:VEVENT
END:VCALENDAR
