BEGIN:VCALENDAR
VERSION:2.0
PRODID:-//104.152.168.27//NONSGML kigkonsult.se iCalcreator 2.20//
CALSCALE:GREGORIAN
METHOD:PUBLISH
X-WR-TIMEZONE:Asia/Tokyo
BEGIN:VEVENT
UID:event16936@Tokyo Gig Guide
DTSTAMP:20260424T224550Z
CATEGORIES:Experimental\, Ambient\, Avant garde\, Improvised\, Noise
DESCRIPTION:Renick Bell\, Hideki Umezawa\, HNZ\, They-Group\nカテゴリ: Experime
 ntal\, Ambient\, Avant garde\, Improvised\, Noise\nリンク: https://www.tokyog
 igguide.com/index.php?option=com_jem&view=event&id=16936:renick-bell-hidek
 i-umezawa-hnz-they-group&Itemid=1094\n
DTSTART:20170617T183000
DTEND:20170617T183000
LOCATION:Knock (Koenji)\,Koenji Minami 3-48-6  B1F\,Koenji
SUMMARY:Renick Bell\, Hideki Umezawa\, HNZ\, They-Group
URL:https://www.tokyogigguide.com/index.php?option=com_jem&view=event&id=16
 936:renick-bell-hideki-umezawa-hnz-they-group&Itemid=1094
END:VEVENT
END:VCALENDAR
