BEGIN:VCALENDAR
VERSION:2.0
PRODID:-//104.152.168.27//NONSGML kigkonsult.se iCalcreator 2.20//
CALSCALE:GREGORIAN
METHOD:PUBLISH
X-WR-TIMEZONE:Asia/Tokyo
BEGIN:VEVENT
UID:event17130@Tokyo Gig Guide
DTSTAMP:20260422T230827Z
CATEGORIES:Acoustic\, Avant garde\, Instrumental\, Progressive
DESCRIPTION:ERA (Akihisa Tsuboi\, Natsuki Kido)\nカテゴリ: Acoustic\, Avant gar
 de\, Instrumental\, Progressive\nリンク: https://www.tokyogigguide.com/index.
 php?option=com_jem&view=event&id=17130:era-akihisa-tsuboi-natsuki-kido&Ite
 mid=1094\n
DTSTART:20170705T183000
DTEND:20170705T183000
LOCATION:Ongakushitsu DX\,B1F 3-20-4 Nishiwaseda Shinjuku-ku Tokyo\,Takadan
 obaba
SUMMARY:ERA (Akihisa Tsuboi\, Natsuki Kido)
URL:https://www.tokyogigguide.com/index.php?option=com_jem&view=event&id=17
 130:era-akihisa-tsuboi-natsuki-kido&Itemid=1094
END:VEVENT
END:VCALENDAR
