BEGIN:VCALENDAR
VERSION:2.0
PRODID:-//104.152.168.27//NONSGML kigkonsult.se iCalcreator 2.20//
CALSCALE:GREGORIAN
METHOD:PUBLISH
X-WR-TIMEZONE:Asia/Tokyo
BEGIN:VEVENT
UID:event17754@Tokyo Gig Guide
DTSTAMP:20260421T063407Z
CATEGORIES:Ambient
DESCRIPTION:Tatsuhiko Asano\, Masashi Kamada\, ATSUKO ISHIHARA GROUP \nカテゴリ
 : Ambient\nリンク: https://www.tokyogigguide.com/index.php?option=com_jem&vie
 w=event&id=17754:tatsuhiko-asano-mavashi-kamada-atsuko-ishihara-group&Item
 id=1094\n
DTSTART:20170918T183000
DTEND:20170918T183000
LOCATION:Shichoshitsu (Jinbocho)\,3-8-5 Nishi Kanda\, Chiyodaku\, Tokyo\,Ji
 mbocho
SUMMARY:Tatsuhiko Asano\, Masashi Kamada\, ATSUKO ISHIHARA GROUP 
URL:https://www.tokyogigguide.com/index.php?option=com_jem&view=event&id=17
 754:tatsuhiko-asano-mavashi-kamada-atsuko-ishihara-group&Itemid=1094
END:VEVENT
END:VCALENDAR
