BEGIN:VCALENDAR
VERSION:2.0
PRODID:-//104.152.168.27//NONSGML kigkonsult.se iCalcreator 2.20//
CALSCALE:GREGORIAN
METHOD:PUBLISH
X-WR-TIMEZONE:Asia/Tokyo
BEGIN:VEVENT
UID:event17801@Tokyo Gig Guide
DTSTAMP:20260425T185944Z
CATEGORIES:Acoustic\, Avant garde
DESCRIPTION:Warehouse (Natsuki Kido\, Hirohiko Otsubo\, Kumiko Takara) +  Y
 uichi Ohata\nカテゴリ: Acoustic\, Avant garde\nリンク: https://www.tokyogigguide.
 com/index.php?option=com_jem&view=event&id=17801:warehouse-natsuki-kido-hi
 rohiko-otsubo-kumiko-takara-yuichi-ohata&Itemid=1094\n
DTSTART:20171012T190000
DTEND:20171012T190000
LOCATION:Shichoshitsu (Jinbocho)\,3-8-5 Nishi Kanda\, Chiyodaku\, Tokyo\,Ji
 mbocho
SUMMARY:Warehouse (Natsuki Kido\, Hirohiko Otsubo\, Kumiko Takara) +  Yuich
 i Ohata
URL:https://www.tokyogigguide.com/index.php?option=com_jem&view=event&id=17
 801:warehouse-natsuki-kido-hirohiko-otsubo-kumiko-takara-yuichi-ohata&Item
 id=1094
END:VEVENT
END:VCALENDAR
