BEGIN:VCALENDAR
VERSION:2.0
PRODID:-//104.152.168.27//NONSGML kigkonsult.se iCalcreator 2.20//
CALSCALE:GREGORIAN
METHOD:PUBLISH
X-WR-TIMEZONE:Asia/Tokyo
BEGIN:VEVENT
UID:event18828@Tokyo Gig Guide
DTSTAMP:20260421T213826Z
CATEGORIES:Acoustic\, Instrumental\, Jazz
DESCRIPTION:FRET LAND (Yoshihiro Arita\, Natsuki Kido\, Shunji Takenaka)\nカ
 テゴリ: Acoustic\, Instrumental\, Jazz\nリンク: https://www.tokyogigguide.com/in
 dex.php?option=com_jem&view=event&id=18828:fret-land-yoshihiro-arita-natsu
 ki-kido-shunji-takenaka&Itemid=1094\n
DTSTART:20180315T183000
DTEND:20180315T183000
LOCATION:Ongakushitsu DX\,B1F 3-20-4 Nishiwaseda Shinjuku-ku Tokyo\,Takadan
 obaba
SUMMARY:FRET LAND (Yoshihiro Arita\, Natsuki Kido\, Shunji Takenaka)
URL:https://www.tokyogigguide.com/index.php?option=com_jem&view=event&id=18
 828:fret-land-yoshihiro-arita-natsuki-kido-shunji-takenaka&Itemid=1094
END:VEVENT
END:VCALENDAR
