BEGIN:VCALENDAR
VERSION:2.0
PRODID:-//104.152.168.27//NONSGML kigkonsult.se iCalcreator 2.20//
CALSCALE:GREGORIAN
METHOD:PUBLISH
X-WR-TIMEZONE:Asia/Tokyo
BEGIN:VEVENT
UID:event18864@Tokyo Gig Guide
DTSTAMP:20260424T153743Z
CATEGORIES:All Mix
DESCRIPTION:The Mootekkis\, Negative Zero\, The Beat Jackers\, O-Ma\, ONE M
 AN KRU\, Akito Nagaoka\nカテゴリ: All Mix\nリンク: https://www.tokyogigguide.com/
 index.php?option=com_jem&view=event&id=18864:the-mootekkis-negative-zero-t
 he-beat-jackers-o-ma-one-man-kru-akito-nagaoka&Itemid=1094\n
DTSTART:20180302T190000
DTEND:20180302T190000
LOCATION:NOB\,Maruyamacho 1-3 BF\, Shibuya-ku\,Shibuya
SUMMARY:The Mootekkis\, Negative Zero\, The Beat Jackers\, O-Ma\, ONE MAN K
 RU\, Akito Nagaoka
URL:https://www.tokyogigguide.com/index.php?option=com_jem&view=event&id=18
 864:the-mootekkis-negative-zero-the-beat-jackers-o-ma-one-man-kru-akito-na
 gaoka&Itemid=1094
END:VEVENT
END:VCALENDAR
