BEGIN:VCALENDAR
VERSION:2.0
PRODID:-//104.152.168.27//NONSGML kigkonsult.se iCalcreator 2.20//
CALSCALE:GREGORIAN
METHOD:PUBLISH
X-WR-TIMEZONE:Asia/Tokyo
BEGIN:VEVENT
UID:event20039@Tokyo Gig Guide
DTSTAMP:20260425T203549Z
CATEGORIES:Avant garde\, Improvised\, Instrumental\, Jazz
DESCRIPTION:SEKKUTSU JEAN (Tatsuya Yoshida\, Kenji Sato) + Dairo Suga\nカテゴリ
 : Avant garde\, Improvised\, Instrumental\, Jazz\nリンク: https://www.tokyogi
 gguide.com/index.php?option=com_jem&view=event&id=20039:sekkutsu-jean-tats
 uya-yoshida-kenji-sato-dairo-suga&Itemid=1094\n
DTSTART:20180802T183000
DTEND:20180802T183000
LOCATION:Jirokichi\,Koenji Bldg B1\, 2-3-4 Koenji-kita\,Koenji
SUMMARY:SEKKUTSU JEAN (Tatsuya Yoshida\, Kenji Sato) + Dairo Suga
URL:https://www.tokyogigguide.com/index.php?option=com_jem&view=event&id=20
 039:sekkutsu-jean-tatsuya-yoshida-kenji-sato-dairo-suga&Itemid=1094
END:VEVENT
END:VCALENDAR
