BEGIN:VCALENDAR
VERSION:2.0
PRODID:-//104.152.168.27//NONSGML kigkonsult.se iCalcreator 2.20//
CALSCALE:GREGORIAN
METHOD:PUBLISH
X-WR-TIMEZONE:Asia/Tokyo
BEGIN:VEVENT
UID:event20053@Tokyo Gig Guide
DTSTAMP:20260423T150942Z
CATEGORIES:Funk\, All Mix\, Rock
DESCRIPTION:Icon Girl Pistols\, Takashi Umemiya & The Comrades\, Creep Down
 \, Jumeaux\, SEXO\, Akito Nagaoka\nカテゴリ: Funk\, All Mix\, Rock\nリンク: https
 ://www.tokyogigguide.com/index.php?option=com_jem&view=event&id=20053:icon
 -girl-pistols-takashi-umemiya-the-comrades-creep-down-jumeaux-sexo-akito-n
 agaoka&Itemid=1094\n
DTSTART:20180803T190000
DTEND:20180803T190000
LOCATION:NOB\,Maruyamacho 1-3 BF\, Shibuya-ku\,Shibuya
SUMMARY:Icon Girl Pistols\, Takashi Umemiya & The Comrades\, Creep Down\, J
 umeaux\, SEXO\, Akito Nagaoka
URL:https://www.tokyogigguide.com/index.php?option=com_jem&view=event&id=20
 053:icon-girl-pistols-takashi-umemiya-the-comrades-creep-down-jumeaux-sexo
 -akito-nagaoka&Itemid=1094
END:VEVENT
END:VCALENDAR
