BEGIN:VCALENDAR
VERSION:2.0
PRODID:-//104.152.168.27//NONSGML kigkonsult.se iCalcreator 2.20//
CALSCALE:GREGORIAN
METHOD:PUBLISH
X-WR-TIMEZONE:Asia/Tokyo
BEGIN:VEVENT
UID:event2028@Tokyo Gig Guide
DTSTAMP:20260425T002236Z
CATEGORIES:Noise Rock
DESCRIPTION:ZENI GEVA\, FROM HELL\, GALLHAMMER\, PIGMEN\nカテゴリ: Noise Rock\n
 リンク: https://www.tokyogigguide.com/index.php?option=com_jem&view=event&id=
 2028:zeni-geva-from-hell-gallhammer-pigmen&Itemid=1094\n
DTSTART:20091204T183000
DTEND:20091204T183000
LOCATION:Earthdom\,Lisbon Bldg B1F\, 3-32-3 Okubo\, Shinjuku-ku\,Okubo
SUMMARY:ZENI GEVA\, FROM HELL\, GALLHAMMER\, PIGMEN
URL:https://www.tokyogigguide.com/index.php?option=com_jem&view=event&id=20
 28:zeni-geva-from-hell-gallhammer-pigmen&Itemid=1094
END:VEVENT
END:VCALENDAR
