BEGIN:VCALENDAR
VERSION:2.0
PRODID:-//104.152.168.27//NONSGML kigkonsult.se iCalcreator 2.20//
CALSCALE:GREGORIAN
METHOD:PUBLISH
X-WR-TIMEZONE:Asia/Tokyo
BEGIN:VEVENT
UID:event20418@Tokyo Gig Guide
DTSTAMP:20260426T025738Z
CATEGORIES:Improvised
DESCRIPTION:John Russell\, Stale Liavik Solberg\, Peter Evans\nカテゴリ: Improv
 ised\nリンク: https://www.tokyogigguide.com/index.php?option=com_jem&view=eve
 nt&id=20418:john-russell-stale-liavik-solberg-peter-evans&Itemid=1094\n
DTSTART:20180922T170000
DTEND:20180922T170000
LOCATION:Ryogoku Monten Hall\,1-3-9 Ryogoku\, Sumida-ku  Tokyo \,Ryogoku
SUMMARY:John Russell\, Stale Liavik Solberg\, Peter Evans
URL:https://www.tokyogigguide.com/index.php?option=com_jem&view=event&id=20
 418:john-russell-stale-liavik-solberg-peter-evans&Itemid=1094
END:VEVENT
END:VCALENDAR
