BEGIN:VCALENDAR
VERSION:2.0
PRODID:-//104.152.168.27//NONSGML kigkonsult.se iCalcreator 2.20//
CALSCALE:GREGORIAN
METHOD:PUBLISH
X-WR-TIMEZONE:Asia/Tokyo
BEGIN:VEVENT
UID:event20454@Tokyo Gig Guide
DTSTAMP:20260426T003548Z
CATEGORIES:Rock\, Rock n Roll\, Shibuya-kei\, Shoegaze\, Ska
DESCRIPTION:Creep Down\, Sexo\, Akito Nagaoka\, UNCLOSE\, Grey Area\, Katie
  Ryan\, The Spilt ink\nカテゴリ: Rock\, Rock n Roll\, Shibuya-kei\, Shoegaze\,
  Ska\nリンク: https://www.tokyogigguide.com/index.php?option=com_jem&view=eve
 nt&id=20454:creep-down-sexo-akito-nagaoka-unclose-grey-area-katie-ryan-the
 -spilt-ink&Itemid=1094\n
DTSTART:20181012T190000
DTEND:20181012T190000
LOCATION:NOB\,Maruyamacho 1-3 BF\, Shibuya-ku\,Shibuya
SUMMARY:Creep Down\, Sexo\, Akito Nagaoka\, UNCLOSE\, Grey Area\, Katie Rya
 n\, The Spilt ink
URL:https://www.tokyogigguide.com/index.php?option=com_jem&view=event&id=20
 454:creep-down-sexo-akito-nagaoka-unclose-grey-area-katie-ryan-the-spilt-i
 nk&Itemid=1094
END:VEVENT
END:VCALENDAR
