BEGIN:VCALENDAR
VERSION:2.0
PRODID:-//104.152.168.27//NONSGML kigkonsult.se iCalcreator 2.20//
CALSCALE:GREGORIAN
METHOD:PUBLISH
X-WR-TIMEZONE:Asia/Tokyo
BEGIN:VEVENT
UID:event2067@Tokyo Gig Guide
DTSTAMP:20260422T004540Z
CATEGORIES:Experimental
DESCRIPTION:Ijar Connect\, All The Frogs Are Our Weekend\, Sundelay\, Aureo
 le\nカテゴリ: Experimental\nリンク: https://www.tokyogigguide.com/index.php?optio
 n=com_jem&view=event&id=2067:ijar-connect-all-the-frogs-are-our-weekend-su
 ndelay-aureole&Itemid=1094\n
DTSTART:20091103T183000
DTEND:20091103T183000
LOCATION:Showboat\,Oak Hill Koenji B1F\, 3-17-2 Koenji Kita\,Koenji
SUMMARY:Ijar Connect\, All The Frogs Are Our Weekend\, Sundelay\, Aureole
URL:https://www.tokyogigguide.com/index.php?option=com_jem&view=event&id=20
 67:ijar-connect-all-the-frogs-are-our-weekend-sundelay-aureole&Itemid=1094
END:VEVENT
END:VCALENDAR
