BEGIN:VCALENDAR
VERSION:2.0
PRODID:-//104.152.168.27//NONSGML kigkonsult.se iCalcreator 2.20//
CALSCALE:GREGORIAN
METHOD:PUBLISH
X-WR-TIMEZONE:Asia/Tokyo
BEGIN:VEVENT
UID:event2073@Tokyo Gig Guide
DTSTAMP:20260421T213725Z
CATEGORIES:Mixed Genre
DESCRIPTION:Candles\, Kiyokazu Onozaki (Andersens)\, N'toko\nカテゴリ: Mixed Ge
 nre\nリンク: https://www.tokyogigguide.com/index.php?option=com_jem&view=even
 t&id=2073:candles-kiyokazu-onozaki-andersens-ntoko&Itemid=1094\n
DTSTART:20091207T193000
DTEND:20091207T193000
LOCATION:Knock (Koenji)\,Koenji Minami 3-48-6  B1F\,Koenji
SUMMARY:Candles\, Kiyokazu Onozaki (Andersens)\, N'toko
URL:https://www.tokyogigguide.com/index.php?option=com_jem&view=event&id=20
 73:candles-kiyokazu-onozaki-andersens-ntoko&Itemid=1094
END:VEVENT
END:VCALENDAR
