BEGIN:VCALENDAR
VERSION:2.0
PRODID:-//104.152.168.27//NONSGML kigkonsult.se iCalcreator 2.20//
CALSCALE:GREGORIAN
METHOD:PUBLISH
X-WR-TIMEZONE:Asia/Tokyo
BEGIN:VEVENT
UID:event20821@Tokyo Gig Guide
DTSTAMP:20260421T233823Z
CATEGORIES:All Mix\, Avant garde\, Instrumental\, Rock
DESCRIPTION:Natsuki Kido\, Akihisa Tsuboi\, Akira Ishiguro\, Satoshi Ohtani
 \, Youichiro Yamauchi\nカテゴリ: All Mix\, Avant garde\, Instrumental\, Rock\n
 リンク: https://www.tokyogigguide.com/index.php?option=com_jem&view=event&id=
 20821:natsuki-kido-akihisa-tsuboi-akira-ishiguro-satoshi-ohtani-youichiro-
 yamauchi&Itemid=1094\n
DTSTART:20181116T183000
DTEND:20181116T183000
LOCATION:Ongakushitsu DX\,B1F 3-20-4 Nishiwaseda Shinjuku-ku Tokyo\,Takadan
 obaba
SUMMARY:Natsuki Kido\, Akihisa Tsuboi\, Akira Ishiguro\, Satoshi Ohtani\, Y
 ouichiro Yamauchi
URL:https://www.tokyogigguide.com/index.php?option=com_jem&view=event&id=20
 821:natsuki-kido-akihisa-tsuboi-akira-ishiguro-satoshi-ohtani-youichiro-ya
 mauchi&Itemid=1094
END:VEVENT
END:VCALENDAR
