BEGIN:VCALENDAR
VERSION:2.0
PRODID:-//104.152.168.27//NONSGML kigkonsult.se iCalcreator 2.20//
CALSCALE:GREGORIAN
METHOD:PUBLISH
X-WR-TIMEZONE:Asia/Tokyo
BEGIN:VEVENT
UID:event20899@Tokyo Gig Guide
DTSTAMP:20260425T132356Z
CATEGORIES:Avant garde\, Improvised\, Instrumental\, Progressive
DESCRIPTION:NYUK (Natsuki Kido\, Kazuhisa Uchihashi\, Mitsuru Nasuno\, Tats
 uya Yoshida)\nカテゴリ: Avant garde\, Improvised\, Instrumental\, Progressive
 \nリンク: https://www.tokyogigguide.com/index.php?option=com_jem&view=event&i
 d=20899:nyuk-natsuki-kido-kazuhisa-uchihasi-mitsuru-nasuno-tatsuya-yoshida
 &Itemid=1094\n
DTSTART:20181203T183000
DTEND:20181203T183000
LOCATION:Ongakushitsu DX\,B1F 3-20-4 Nishiwaseda Shinjuku-ku Tokyo\,Takadan
 obaba
SUMMARY:NYUK (Natsuki Kido\, Kazuhisa Uchihashi\, Mitsuru Nasuno\, Tatsuya 
 Yoshida)
URL:https://www.tokyogigguide.com/index.php?option=com_jem&view=event&id=20
 899:nyuk-natsuki-kido-kazuhisa-uchihasi-mitsuru-nasuno-tatsuya-yoshida&Ite
 mid=1094
END:VEVENT
END:VCALENDAR
