BEGIN:VCALENDAR
VERSION:2.0
PRODID:-//104.152.168.27//NONSGML kigkonsult.se iCalcreator 2.20//
CALSCALE:GREGORIAN
METHOD:PUBLISH
X-WR-TIMEZONE:Asia/Tokyo
BEGIN:VEVENT
UID:event21061@Tokyo Gig Guide
DTSTAMP:20260425T203403Z
CATEGORIES:All Mix\, Hard Rock\, Indie-Rock\, Party\, Rock
DESCRIPTION:MARLA\, TRISTAINT\, DELTA FISH\, JUMEAUX\, JACKIE SCOTT\, The S
 pilt Ink\nカテゴリ: All Mix\, Hard Rock\, Indie-Rock\, Party\, Rock\nリンク: http
 s://www.tokyogigguide.com/index.php?option=com_jem&view=event&id=21061:mar
 la-tristaint-delta-fish-jumeaux-jackie-scott-the-spilt-ink&Itemid=1094\n
DTSTART:20181207T190000
DTEND:20181207T190000
LOCATION:NOB\,Maruyamacho 1-3 BF\, Shibuya-ku\,Shibuya
SUMMARY:MARLA\, TRISTAINT\, DELTA FISH\, JUMEAUX\, JACKIE SCOTT\, The Spilt
  Ink
URL:https://www.tokyogigguide.com/index.php?option=com_jem&view=event&id=21
 061:marla-tristaint-delta-fish-jumeaux-jackie-scott-the-spilt-ink&Itemid=1
 094
END:VEVENT
END:VCALENDAR
