BEGIN:VCALENDAR
VERSION:2.0
PRODID:-//104.152.168.27//NONSGML kigkonsult.se iCalcreator 2.20//
CALSCALE:GREGORIAN
METHOD:PUBLISH
X-WR-TIMEZONE:Asia/Tokyo
BEGIN:VEVENT
UID:event21459@Tokyo Gig Guide
DTSTAMP:20260423T231218Z
CATEGORIES:All Mix\, Hard Rock\, Indie-Rock\, Punk\, Rock n Roll
DESCRIPTION:Jumeaux\, Chris Baluyut\, Akito Nagaoka\, Sexo\, This Year's Mo
 del\, Creep Down\, CocoBanana Cambur\, more\nカテゴリ: All Mix\, Hard Rock\, I
 ndie-Rock\, Punk\, Rock n Roll\nリンク: https://www.tokyogigguide.com/index.p
 hp?option=com_jem&view=event&id=21459:jumeaux-chris-baluyut-akito-nagaoka-
 sexo-this-year-s-model-creep-down-cocobanana-cambur-more&Itemid=1094\n
DTSTART:20190216T153000
DTEND:20190216T153000
LOCATION:NOB\,Maruyamacho 1-3 BF\, Shibuya-ku\,Shibuya
SUMMARY:Jumeaux\, Chris Baluyut\, Akito Nagaoka\, Sexo\, This Year's Model\
 , Creep Down\, CocoBanana Cambur\, more
URL:https://www.tokyogigguide.com/index.php?option=com_jem&view=event&id=21
 459:jumeaux-chris-baluyut-akito-nagaoka-sexo-this-year-s-model-creep-down-
 cocobanana-cambur-more&Itemid=1094
END:VEVENT
END:VCALENDAR
